BEGIN:VCALENDAR
VERSION:2.0
PRODID:-//ljubljanapridefestival - ECPv6.15.20//NONSGML v1.0//EN
CALSCALE:GREGORIAN
METHOD:PUBLISH
X-WR-CALNAME:ljubljanapridefestival
X-ORIGINAL-URL:https://ljubljanapridefestival.org/en/
X-WR-CALDESC:Events for ljubljanapridefestival
REFRESH-INTERVAL;VALUE=DURATION:PT1H
X-Robots-Tag:noindex
X-PUBLISHED-TTL:PT1H
BEGIN:VTIMEZONE
TZID:Europe/Ljubljana
BEGIN:DAYLIGHT
TZOFFSETFROM:+0100
TZOFFSETTO:+0200
TZNAME:CEST
DTSTART:20240331T010000
END:DAYLIGHT
BEGIN:STANDARD
TZOFFSETFROM:+0200
TZOFFSETTO:+0100
TZNAME:CET
DTSTART:20241027T010000
END:STANDARD
BEGIN:DAYLIGHT
TZOFFSETFROM:+0100
TZOFFSETTO:+0200
TZNAME:CEST
DTSTART:20250330T010000
END:DAYLIGHT
BEGIN:STANDARD
TZOFFSETFROM:+0200
TZOFFSETTO:+0100
TZNAME:CET
DTSTART:20251026T010000
END:STANDARD
BEGIN:DAYLIGHT
TZOFFSETFROM:+0100
TZOFFSETTO:+0200
TZNAME:CEST
DTSTART:20260329T010000
END:DAYLIGHT
BEGIN:STANDARD
TZOFFSETFROM:+0200
TZOFFSETTO:+0100
TZNAME:CET
DTSTART:20261025T010000
END:STANDARD
END:VTIMEZONE
BEGIN:VEVENT
DTSTART;TZID=Europe/Ljubljana:20250608T120000
DTEND;TZID=Europe/Ljubljana:20250608T180000
DTSTAMP:20260421T104033
CREATED:20250512T113317Z
LAST-MODIFIED:20250523T163206Z
UID:2850-1749384000-1749405600@ljubljanapridefestival.org
SUMMARY:Rainbow gathering
DESCRIPTION:The event will be held in Slovenian and English.Accessibility for people with mobility impairments: No \nJoin us for a fun-filled\, community-centred hangout during Pride Week\, offering a variety of activities focused on creativity\, conversation and reimagining sex education.This event invites you to reflect on your experiences with sex education and explore new\, inclusive and empowering approaches in a relaxed\, welcoming environment. The programme features:  \n🌈 DIY Banner Making Workshop (12:00–18:00): Drop in anytime to create your own sustainable Pride banner. \n🤝 Precarity Info Corner (12:00–18:00):Visit this resource table for advice and consultation on navigating and understanding working conditions in Slovenia \n☕ Kofetkanje: “Pillow Talk” Workshop (12:00–14:00):A cozy\, dialogue-based workshop inviting you to discuss intimacy\, communication and sex education over a cup of coffee. \nSexEd Con (15:00–18:00): \n📚 Interactive Exhibition “Sex Education Library”:Step into a space that allows you to reflect on your own sex education experience\, exploring stations on LGBTQIA+ sexual health\, consent\, communication\, intersectionality\, gender identity and sexual liberation.Engage with the content\, share your thoughts and be part of the conversation! \n📍 Resource Sharing Tables:Local organisations will share information and materials about sex education – giving you the chance to exchange ideas\, learn something new and connect with others.
URL:https://ljubljanapridefestival.org/en/dogodki/rainbow-gathering/
LOCATION:Hana Karim Studio\,  Vilharjeva cesta 3\, Ljubljana
CATEGORIES:COMMUNITY HANGOUT
ATTACH;FMTTYPE=image/jpeg:https://ljubljanapridefestival.org/wp-content/uploads/2025/05/08.06-Community-hangout.jpg
END:VEVENT
END:VCALENDAR