BEGIN:VCALENDAR
VERSION:2.0
PRODID:-//ljubljanapridefestival - ECPv6.15.20//NONSGML v1.0//EN
CALSCALE:GREGORIAN
METHOD:PUBLISH
X-WR-CALNAME:ljubljanapridefestival
X-ORIGINAL-URL:https://ljubljanapridefestival.org/en/
X-WR-CALDESC:Events for ljubljanapridefestival
REFRESH-INTERVAL;VALUE=DURATION:PT1H
X-Robots-Tag:noindex
X-PUBLISHED-TTL:PT1H
BEGIN:VTIMEZONE
TZID:UTC
BEGIN:STANDARD
TZOFFSETFROM:+0000
TZOFFSETTO:+0000
TZNAME:UTC
DTSTART:20230101T000000
END:STANDARD
END:VTIMEZONE
BEGIN:VEVENT
DTSTART;TZID=UTC:20240615T100000
DTEND;TZID=UTC:20240615T160000
DTSTAMP:20260421T122156
CREATED:20240507T091447Z
LAST-MODIFIED:20240527T093351Z
UID:804-1718445600-1718467200@ljubljanapridefestival.org
SUMMARY:Pride village
DESCRIPTION:June 15th\, 10:00–16:00\n			\n				\n				\n				\n				\n				Park Zvezda (Kongresni trg\, Ljubljana)\n			\n			\n				\n				\n				\n				\n			\n				\n				\n				\n				\n				\n				\n				\n				\n				\n				\n				Pride village\n			\n				\n				\n				\n				\n				Community event \n			\n				\n				\n				\n				\n				Event will be held in Slovene and English. \n			\n				\n				\n				\n				\n				Accessibility for people with reduced mobility: Yes \n			\n				\n				\n				\n				\n				Like every year\, Pride Village will be dedicated to everyone in our community. The largest community event of the year is designed as a warm-up for the Pride Parade and the stage programme after the march. In addition to the traditional booths where LGBTIQ+ and ally organisations will be presenting their work and services\, this year you can also participate in various activities aimed at painting the city\, our bodies\, and minds in the colours of the LGBTIQ+ flags:• children’s corner with a storytelling hour;• raffle with amazing prizes;• booths with flags and other merch for a colourful Parade Day and march;• make-up corner\, where makeup artists will make you shine in all your fabulousness;• DragCon Ljubljana Pride 2024 – mini Drag convention\, where queens and kings will reign in drag and glamour;• photo corner\, where you can capture your memories in red carpet style and shine like a star;• Living Library\, that has been part of the Pride Village for many years now;• Sqvot booth\, where in exchange for a donation to support the programme’s beneficiaries\, you can get a refreshing drink or grab a quick snack without leaving our rainbow city in the heart of Ljubljana.
URL:https://ljubljanapridefestival.org/en/dogodki/pride-village/
LOCATION:Park Zvezda\, Kongresni trg\, Kongresni trg\, Ljubljana\, 1000\, Slovenija
ATTACH;FMTTYPE=image/jpeg:https://ljubljanapridefestival.org/wp-content/uploads/2024/04/nika4.jpg
ORGANIZER;CN="Ljubljana Pride":MAILTO:info@ljubljanapride.org
END:VEVENT
END:VCALENDAR