BEGIN:VCALENDAR
VERSION:2.0
PRODID:-//ljubljanapridefestival - ECPv6.15.20//NONSGML v1.0//EN
CALSCALE:GREGORIAN
METHOD:PUBLISH
X-WR-CALNAME:ljubljanapridefestival
X-ORIGINAL-URL:https://ljubljanapridefestival.org/en/
X-WR-CALDESC:Events for ljubljanapridefestival
REFRESH-INTERVAL;VALUE=DURATION:PT1H
X-Robots-Tag:noindex
X-PUBLISHED-TTL:PT1H
BEGIN:VTIMEZONE
TZID:Europe/Ljubljana
BEGIN:DAYLIGHT
TZOFFSETFROM:+0100
TZOFFSETTO:+0200
TZNAME:CEST
DTSTART:20240331T010000
END:DAYLIGHT
BEGIN:STANDARD
TZOFFSETFROM:+0200
TZOFFSETTO:+0100
TZNAME:CET
DTSTART:20241027T010000
END:STANDARD
BEGIN:DAYLIGHT
TZOFFSETFROM:+0100
TZOFFSETTO:+0200
TZNAME:CEST
DTSTART:20250330T010000
END:DAYLIGHT
BEGIN:STANDARD
TZOFFSETFROM:+0200
TZOFFSETTO:+0100
TZNAME:CET
DTSTART:20251026T010000
END:STANDARD
BEGIN:DAYLIGHT
TZOFFSETFROM:+0100
TZOFFSETTO:+0200
TZNAME:CEST
DTSTART:20260329T010000
END:DAYLIGHT
BEGIN:STANDARD
TZOFFSETFROM:+0200
TZOFFSETTO:+0100
TZNAME:CET
DTSTART:20261025T010000
END:STANDARD
END:VTIMEZONE
BEGIN:VEVENT
DTSTART;TZID=Europe/Ljubljana:20250614T100000
DTEND;TZID=Europe/Ljubljana:20250614T160000
DTSTAMP:20260421T104312
CREATED:20250512T121815Z
LAST-MODIFIED:20250523T194628Z
UID:2648-1749895200-1749916800@ljubljanapridefestival.org
SUMMARY:PRIDE CITY
DESCRIPTION:🌈Pride Village 2025 is calling you!  🌈 \nJoin us on June 14 from 10:00 to 16:00 in Park Zvezda (Kongresni trg) for a day full of community\, relaxation\, and queer joy! Expect a rainbow of fun and activities for all generations!   💄 A make-up station to get parade-ready 🎟️ A raffle with epic prizes (seriously!) 🧘‍♀️ A chill-out zone with coffee and lemonade on the grass 💅 DragCon with local queens and kings 🌿 Green and sporty activities✨ Storytime with Prof. Kurent in the kids’ corner 🌈 Queer peer educators sharing knowledge and inspiration 🎪 Stalls from LGBTIQ+ and ally organizations 🛍️ Rainbow and sustainable merch to keep the pride alive \nPride Village is the heart of the Pride Parade – come connect\, explore\, shop\, and celebrate with us! 💖 \n👉 Follow us on socials – we’ll be unveiling more of the Pride Village program each day until the parade!
URL:https://ljubljanapridefestival.org/en/dogodki/pride-village-2/
LOCATION:Park Zvezda (Kongresni trg)\, Ljubljana
CATEGORIES:Paradni dan
ATTACH;FMTTYPE=image/jpeg:https://ljubljanapridefestival.org/wp-content/uploads/2025/05/14.06-Pride-Village.jpg
END:VEVENT
END:VCALENDAR