BEGIN:VCALENDAR
VERSION:2.0
PRODID:-//ljubljanapridefestival - ECPv6.15.20//NONSGML v1.0//EN
CALSCALE:GREGORIAN
METHOD:PUBLISH
X-WR-CALNAME:ljubljanapridefestival
X-ORIGINAL-URL:https://ljubljanapridefestival.org/en/
X-WR-CALDESC:Events for ljubljanapridefestival
REFRESH-INTERVAL;VALUE=DURATION:PT1H
X-Robots-Tag:noindex
X-PUBLISHED-TTL:PT1H
BEGIN:VTIMEZONE
TZID:Europe/Ljubljana
BEGIN:DAYLIGHT
TZOFFSETFROM:+0100
TZOFFSETTO:+0200
TZNAME:CEST
DTSTART:20240331T010000
END:DAYLIGHT
BEGIN:STANDARD
TZOFFSETFROM:+0200
TZOFFSETTO:+0100
TZNAME:CET
DTSTART:20241027T010000
END:STANDARD
BEGIN:DAYLIGHT
TZOFFSETFROM:+0100
TZOFFSETTO:+0200
TZNAME:CEST
DTSTART:20250330T010000
END:DAYLIGHT
BEGIN:STANDARD
TZOFFSETFROM:+0200
TZOFFSETTO:+0100
TZNAME:CET
DTSTART:20251026T010000
END:STANDARD
BEGIN:DAYLIGHT
TZOFFSETFROM:+0100
TZOFFSETTO:+0200
TZNAME:CEST
DTSTART:20260329T010000
END:DAYLIGHT
BEGIN:STANDARD
TZOFFSETFROM:+0200
TZOFFSETTO:+0100
TZNAME:CET
DTSTART:20261025T010000
END:STANDARD
END:VTIMEZONE
BEGIN:VEVENT
DTSTART;TZID=Europe/Ljubljana:20250613T210000
DTEND;TZID=Europe/Ljubljana:20250613T230000
DTSTAMP:20260419T152712
CREATED:20250527T102937Z
LAST-MODIFIED:20250527T153640Z
UID:2996-1749848400-1749855600@ljubljanapridefestival.org
SUMMARY:Prepride party Pritličje
DESCRIPTION:🌈 Every grand finale needs a proper warm-up–and what better way to get fired up than the PrePride Party right in the heart of Ljubljana? \nOn friday\, June 13\, 2025\, join us atPritličje\, for a wild prepride night: DJ sets\, dancing\, great vibes\, and all the rainbow energy we need to fuel us for the big finale–Saturday’s Pride Day! \n🔥 Come for the beats\, the smiles\, and the glittering sense of community. Sparkles encouraged\, good vibes required\, and  entry is free! \nThis party is your perfect warm-up for Pride Day 2025. See you at Pritličje! 💃🪩🌈
URL:https://ljubljanapridefestival.org/en/dogodki/prepride-party-pritlicje/
LOCATION:Kavarna Pritličje\, Mestni trg 2\, Ljubljana
CATEGORIES:Party
ATTACH;FMTTYPE=image/png:https://ljubljanapridefestival.org/wp-content/uploads/2025/05/Cover-photo-20.png
END:VEVENT
END:VCALENDAR