BEGIN:VCALENDAR
VERSION:2.0
PRODID:-//ljubljanapridefestival - ECPv6.15.20//NONSGML v1.0//EN
CALSCALE:GREGORIAN
METHOD:PUBLISH
X-WR-CALNAME:ljubljanapridefestival
X-ORIGINAL-URL:https://ljubljanapridefestival.org/en/
X-WR-CALDESC:Events for ljubljanapridefestival
REFRESH-INTERVAL;VALUE=DURATION:PT1H
X-Robots-Tag:noindex
X-PUBLISHED-TTL:PT1H
BEGIN:VTIMEZONE
TZID:UTC
BEGIN:STANDARD
TZOFFSETFROM:+0000
TZOFFSETTO:+0000
TZNAME:UTC
DTSTART:20230101T000000
END:STANDARD
END:VTIMEZONE
BEGIN:VEVENT
DTSTART;TZID=UTC:20240615T170000
DTEND;TZID=UTC:20240615T230000
DTSTAMP:20260421T140228
CREATED:20240507T093248Z
LAST-MODIFIED:20240507T122606Z
UID:830-1718470800-1718492400@ljubljanapridefestival.org
SUMMARY:Parada ponosa
DESCRIPTION:June 15th\, 17:00–23:00\n			\n				\n				\n				\n				\n				17:00 gathering at AKC Metelkova mesto18:00 march on the streets of Ljubljana19:00 political and cultural programme23:00 afterparty at Club Gromka \n			\n			\n				\n				\n				\n				\n			\n				\n				\n				\n				\n				\n				\n				\n				\n				\n				\n				Parada ponosa\n			\n				\n				\n				\n				\n				Pride march \n			\n				\n				\n				\n				\n				Event will be held in Slovene and English. \n			\n				\n				\n				\n				\n				Organised by: Ljubljana Pride \n			\n				\n				\n				\n				\n				The main event of the annual Pride Parade is the Pride march\, full of energy and colour\, which is also a protest of the LGBTIQ+ community and our supporters. It is a celebration of rainbow existence and demands for visibility\, equality and respect. Join us under the slogan “Looking Back\, Marching Forward”.The march will start at 17:00 at AKC Metelkova mesto in front of the Lovci building\, where the protesters will gather and equip themselves with rainbow flags and banners. At 18:00 we will march through the streets of Ljubljana\, accompanied by a parade truck. The route will take us along Masarykova ulica\, passing by the Ljubljana railway station. Once at Bavarski dvor\, the protest will continue towards the city centre and the participants will reassemble at Kongresni trg\, where a political and cultural programme will be held from 19:00 onwards. The first hour of the programme will be dedicated to addresses by guest speakers\, followed by a cultural programme with performances by the musical queer duo Freekind\, the performance group Image Snatchers\, DJ Skandal and a surprise guest appearance. The Pride Parade 2024 festival will end with an afterparty at AKC Metelkova mesto\, with a special night programme prepared by members of the DJ group Ustanova at Club Gromka.
URL:https://ljubljanapridefestival.org/en/dogodki/parada-ponosa/
ATTACH;FMTTYPE=image/jpeg:https://ljubljanapridefestival.org/wp-content/uploads/2024/05/paradaponosaursa.jpg
ORGANIZER;CN="Ljubljana Pride":MAILTO:info@ljubljanapride.org
END:VEVENT
END:VCALENDAR