BEGIN:VCALENDAR
VERSION:2.0
PRODID:-//ljubljanapridefestival - ECPv6.15.20//NONSGML v1.0//EN
CALSCALE:GREGORIAN
METHOD:PUBLISH
X-WR-CALNAME:ljubljanapridefestival
X-ORIGINAL-URL:https://ljubljanapridefestival.org/en/
X-WR-CALDESC:Events for ljubljanapridefestival
REFRESH-INTERVAL;VALUE=DURATION:PT1H
X-Robots-Tag:noindex
X-PUBLISHED-TTL:PT1H
BEGIN:VTIMEZONE
TZID:UTC
BEGIN:STANDARD
TZOFFSETFROM:+0000
TZOFFSETTO:+0000
TZNAME:UTC
DTSTART:20230101T000000
END:STANDARD
END:VTIMEZONE
BEGIN:VEVENT
DTSTART;TZID=UTC:20240613T214500
DTEND;TZID=UTC:20240613T222000
DTSTAMP:20260420T113535
CREATED:20240507T082632Z
LAST-MODIFIED:20240527T093918Z
UID:742-1718315100-1718317200@ljubljanapridefestival.org
SUMMARY:Major and the Drag Queens
DESCRIPTION:June 13th\, 21:45\n			\n				\n				\n				\n				\n				Publika bar klub (Vilharjeva 11\, Ljubljana)\n			\n			\n				\n				\n				\n				\n			\n				\n				\n				\n				\n				\n				\n				\n				\n				\n				\n				Major and the Drag Queens\n			\n				\n				\n				\n				\n				Drag show \n			\n				\n				\n				\n				\n				Event will be held in Slovene and English. \n  \n			\n				\n				\n				\n				\n				Accessibility for people with reduced mobility: No \n			\n				\n				\n				\n				\n				Dorijan Mavrični\, Glupa Pupa Kunt and Saška Depresso are local drag performers who\, throughout their work on the scene\, actively place trans identities in stories told through drag. With their talent and fearlessness\, they will ensure an unforgettable end to the evening.
URL:https://ljubljanapridefestival.org/en/dogodki/major-and-the-drag-queens/
LOCATION:Publika bar klub\, Vilharjeva 11\, Ljubljana\, 1000\, Slovenija
ATTACH;FMTTYPE=image/jpeg:https://ljubljanapridefestival.org/wp-content/uploads/2024/05/masaddragice.jpg
ORGANIZER;CN="Ljubljana Pride":MAILTO:info@ljubljanapride.org
END:VEVENT
END:VCALENDAR