BEGIN:VCALENDAR
VERSION:2.0
PRODID:-//ljubljanapridefestival - ECPv6.15.20//NONSGML v1.0//EN
CALSCALE:GREGORIAN
METHOD:PUBLISH
X-WR-CALNAME:ljubljanapridefestival
X-ORIGINAL-URL:https://ljubljanapridefestival.org/en/
X-WR-CALDESC:Events for ljubljanapridefestival
REFRESH-INTERVAL;VALUE=DURATION:PT1H
X-Robots-Tag:noindex
X-PUBLISHED-TTL:PT1H
BEGIN:VTIMEZONE
TZID:Europe/Ljubljana
BEGIN:DAYLIGHT
TZOFFSETFROM:+0100
TZOFFSETTO:+0200
TZNAME:CEST
DTSTART:20240331T010000
END:DAYLIGHT
BEGIN:STANDARD
TZOFFSETFROM:+0200
TZOFFSETTO:+0100
TZNAME:CET
DTSTART:20241027T010000
END:STANDARD
BEGIN:DAYLIGHT
TZOFFSETFROM:+0100
TZOFFSETTO:+0200
TZNAME:CEST
DTSTART:20250330T010000
END:DAYLIGHT
BEGIN:STANDARD
TZOFFSETFROM:+0200
TZOFFSETTO:+0100
TZNAME:CET
DTSTART:20251026T010000
END:STANDARD
BEGIN:DAYLIGHT
TZOFFSETFROM:+0100
TZOFFSETTO:+0200
TZNAME:CEST
DTSTART:20260329T010000
END:DAYLIGHT
BEGIN:STANDARD
TZOFFSETFROM:+0200
TZOFFSETTO:+0100
TZNAME:CET
DTSTART:20261025T010000
END:STANDARD
END:VTIMEZONE
BEGIN:VEVENT
DTSTART;TZID=Europe/Ljubljana:20250612T160000
DTEND;TZID=Europe/Ljubljana:20250612T190000
DTSTAMP:20260421T104616
CREATED:20250512T120549Z
LAST-MODIFIED:20250523T192831Z
UID:2897-1749744000-1749754800@ljubljanapridefestival.org
SUMMARY:Let’s DecontRaminate Ljubljana
DESCRIPTION:The event will be held in English.\nAccessibility for people with mobility impairments: Yes \nAre you bothered by hateful graffiti on the streets of Ljubljana? Do you sit on the toilet of your favourite bar and scratch transphobic slurs off the bathroom tiles? Do you ever feel that the public spaces around you are hostile?    \nWell\, we have a great solution! Join our DecontRamination of Hate Speech workshop and you will get the chance to explore ways of reclaiming our public spaces\, parks\, pavements\, bathroom walls and so much more.\n \nThe workshop will start at 4 PM in Hana Karim Studio on Vilharjeva cesta\, where we will briefly get to know the concept of DekontRamination and the mobile application that we will use. Then\, in small groups\, we will go to different locations around the city\, where we will find graffiti in public spaces and decontaminate them. The workshop will bring together activists from all over Europe and will be an excellent opportunity to learn about new strategies for decontraminating hateful and discriminatory inscriptions.   \nIt is recommended that you download the mobile app\,\,which is available in Slovenian\, English and German\, before participating \nDon’t forget to bring a water bottle and sunscreen!\n 🎟️ (Sign up here to participate!) )
URL:https://ljubljanapridefestival.org/en/dogodki/lets-decontraminate-ljubljana/
LOCATION:Hana Karim Studio\,  Vilharjeva cesta 3\, Ljubljana
CATEGORIES:Hate speech transformation workshop
END:VEVENT
END:VCALENDAR