BEGIN:VCALENDAR
VERSION:2.0
PRODID:-//ljubljanapridefestival - ECPv6.15.20//NONSGML v1.0//EN
CALSCALE:GREGORIAN
METHOD:PUBLISH
X-WR-CALNAME:ljubljanapridefestival
X-ORIGINAL-URL:https://ljubljanapridefestival.org/en/
X-WR-CALDESC:Events for ljubljanapridefestival
REFRESH-INTERVAL;VALUE=DURATION:PT1H
X-Robots-Tag:noindex
X-PUBLISHED-TTL:PT1H
BEGIN:VTIMEZONE
TZID:Europe/Ljubljana
BEGIN:DAYLIGHT
TZOFFSETFROM:+0100
TZOFFSETTO:+0200
TZNAME:CEST
DTSTART:20240331T010000
END:DAYLIGHT
BEGIN:STANDARD
TZOFFSETFROM:+0200
TZOFFSETTO:+0100
TZNAME:CET
DTSTART:20241027T010000
END:STANDARD
BEGIN:DAYLIGHT
TZOFFSETFROM:+0100
TZOFFSETTO:+0200
TZNAME:CEST
DTSTART:20250330T010000
END:DAYLIGHT
BEGIN:STANDARD
TZOFFSETFROM:+0200
TZOFFSETTO:+0100
TZNAME:CET
DTSTART:20251026T010000
END:STANDARD
BEGIN:DAYLIGHT
TZOFFSETFROM:+0100
TZOFFSETTO:+0200
TZNAME:CEST
DTSTART:20260329T010000
END:DAYLIGHT
BEGIN:STANDARD
TZOFFSETFROM:+0200
TZOFFSETTO:+0100
TZNAME:CET
DTSTART:20261025T010000
END:STANDARD
END:VTIMEZONE
BEGIN:VEVENT
DTSTART;TZID=Europe/Ljubljana:20250612T200000
DTEND;TZID=Europe/Ljubljana:20250612T220000
DTSTAMP:20260421T104616
CREATED:20250512T120732Z
LAST-MODIFIED:20250603T125819Z
UID:2659-1749758400-1749765600@ljubljanapridefestival.org
SUMMARY:JULY JONES & MALLRAT
DESCRIPTION:You’re invited to a rainbow concert as part of the Pride Parade Festival! On Thursday\, June 12th – just two days before the big parade day – Kino Šiška will host two exceptional artists: Australian star Mallrat and Slovenian electro-pop performer July Jones. We’re in for an evening of music full of diversity\, powerful messages\, and energetic rhythms\, where the sounds of pop\, R&B\, and electronic music will intertwine. Together\, we’ll create a space that celebrates freedom\, love\, and the queer community – through music that inspires and connects. \n🌟 MallratThe Australian singer and rapper\, known for her dreamy pop and introspective lyrics\, is coming to Ljubljana as part of her European tour. At the concert\, we’ll also get to hear tracks from her brand new album Light Hit My Face Like a Street Light. \n🌟 July JonesA singer of Slovenian roots creating in the UK\, she’s already well known to the Slovenian audience for her fearless electro-pop. A finalist of EMA 2022\, winner of the Music Moves Europe 2023 award\, and a familiar face of the Pride Parade\, she will once again light up the stage with her distinct queer energy and uncompromising authenticity. \nJoin us for an evening bursting with musical freedom\, rainbow energy\, and heartfelt vibes. 🎶🏳️‍🌈
URL:https://ljubljanapridefestival.org/en/dogodki/july-jones-mallrat/
LOCATION:Kino Šiška\, Trg prekomorskih brigad 3\, Ljubljana
CATEGORIES:concert
ATTACH;FMTTYPE=image/jpeg:https://ljubljanapridefestival.org/wp-content/uploads/2025/05/12.06-Kino-Siska-concert.jpg
END:VEVENT
END:VCALENDAR