BEGIN:VCALENDAR
VERSION:2.0
PRODID:-//ljubljanapridefestival - ECPv6.15.20//NONSGML v1.0//EN
CALSCALE:GREGORIAN
METHOD:PUBLISH
X-WR-CALNAME:ljubljanapridefestival
X-ORIGINAL-URL:https://ljubljanapridefestival.org/en/
X-WR-CALDESC:Events for ljubljanapridefestival
REFRESH-INTERVAL;VALUE=DURATION:PT1H
X-Robots-Tag:noindex
X-PUBLISHED-TTL:PT1H
BEGIN:VTIMEZONE
TZID:Europe/Ljubljana
BEGIN:DAYLIGHT
TZOFFSETFROM:+0100
TZOFFSETTO:+0200
TZNAME:CEST
DTSTART:20240331T010000
END:DAYLIGHT
BEGIN:STANDARD
TZOFFSETFROM:+0200
TZOFFSETTO:+0100
TZNAME:CET
DTSTART:20241027T010000
END:STANDARD
BEGIN:DAYLIGHT
TZOFFSETFROM:+0100
TZOFFSETTO:+0200
TZNAME:CEST
DTSTART:20250330T010000
END:DAYLIGHT
BEGIN:STANDARD
TZOFFSETFROM:+0200
TZOFFSETTO:+0100
TZNAME:CET
DTSTART:20251026T010000
END:STANDARD
BEGIN:DAYLIGHT
TZOFFSETFROM:+0100
TZOFFSETTO:+0200
TZNAME:CEST
DTSTART:20260329T010000
END:DAYLIGHT
BEGIN:STANDARD
TZOFFSETFROM:+0200
TZOFFSETTO:+0100
TZNAME:CET
DTSTART:20261025T010000
END:STANDARD
END:VTIMEZONE
BEGIN:VEVENT
DTSTART;TZID=Europe/Ljubljana:20250611T170000
DTEND;TZID=Europe/Ljubljana:20250611T183000
DTSTAMP:20260421T104937
CREATED:20250512T124126Z
LAST-MODIFIED:20250527T100313Z
UID:2973-1749661200-1749666600@ljubljanapridefestival.org
SUMMARY:ENACTING JUSTICE – Strengthening the Response to LGBTIQ+ Hate Crimes Across Europe
DESCRIPTION:The event will be held in English.Accessibility for people with mobility impairments: Yes \nThis event will take a closer look at the current situation related to incidents\, violence\, and hate crimes targeting LGBTIQ+ people in Slovenia and across Europe. Together with our guests\, we will interpret the findings of the ENACT project\, carried out in Slovenia by the Peace Institute\, and explore violent incidents that happened in 2024 before\, during\, and after the Pride Parade. With international guests\, we will discuss trends in the international context and focus on responses and strategies to support victims and deliver justice. \nModerated by: \n\nBarbara Rajgelj\, OPEN Institute\, Slovenia\n\nParticipating panelists: \n\nEva Gračanin\, Ljubljana Pride Association\, Slovenia\nMaja Ladič\, Peace Institute\, Slovenia\nMonika Antanaitytė\, National LGBTI Rights Organization LGL\, Lithuania
URL:https://ljubljanapridefestival.org/en/dogodki/enacting-justice-strengthening-the-response-to-lgbtiq-hate-crimes-across-europe/
LOCATION:Kavarna Pritličje\, Mestni trg 2\, Ljubljana
CATEGORIES:Discussion
ATTACH;FMTTYPE=image/jpeg:https://ljubljanapridefestival.org/wp-content/uploads/2025/05/11.06-ENACT-panel.jpg
END:VEVENT
END:VCALENDAR