BEGIN:VCALENDAR
VERSION:2.0
PRODID:-//ljubljanapridefestival - ECPv6.15.20//NONSGML v1.0//EN
CALSCALE:GREGORIAN
METHOD:PUBLISH
X-WR-CALNAME:ljubljanapridefestival
X-ORIGINAL-URL:https://ljubljanapridefestival.org/en/
X-WR-CALDESC:Events for ljubljanapridefestival
REFRESH-INTERVAL;VALUE=DURATION:PT1H
X-Robots-Tag:noindex
X-PUBLISHED-TTL:PT1H
BEGIN:VTIMEZONE
TZID:Europe/Ljubljana
BEGIN:DAYLIGHT
TZOFFSETFROM:+0100
TZOFFSETTO:+0200
TZNAME:CEST
DTSTART:20240331T010000
END:DAYLIGHT
BEGIN:STANDARD
TZOFFSETFROM:+0200
TZOFFSETTO:+0100
TZNAME:CET
DTSTART:20241027T010000
END:STANDARD
BEGIN:DAYLIGHT
TZOFFSETFROM:+0100
TZOFFSETTO:+0200
TZNAME:CEST
DTSTART:20250330T010000
END:DAYLIGHT
BEGIN:STANDARD
TZOFFSETFROM:+0200
TZOFFSETTO:+0100
TZNAME:CET
DTSTART:20251026T010000
END:STANDARD
BEGIN:DAYLIGHT
TZOFFSETFROM:+0100
TZOFFSETTO:+0200
TZNAME:CEST
DTSTART:20260329T010000
END:DAYLIGHT
BEGIN:STANDARD
TZOFFSETFROM:+0200
TZOFFSETTO:+0100
TZNAME:CET
DTSTART:20261025T010000
END:STANDARD
END:VTIMEZONE
BEGIN:VEVENT
DTSTART;TZID=Europe/Ljubljana:20250607T203000
DTEND;TZID=Europe/Ljubljana:20250608T040000
DTSTAMP:20260421T104616
CREATED:20250512T104847Z
LAST-MODIFIED:20250523T143406Z
UID:2803-1749328200-1749355200@ljubljanapridefestival.org
SUMMARY:CLASH OF THE QUEENS
DESCRIPTION:The event will be held in Slovenian.Accessibility for people with mobility impairments: No \nSlovenia\, it’s time to lip sync for your life! The fourth season of the legendary lip sync competition Clash Of the Queens is hitting Gala Hala!  \nOn June 7th\, as part of the Ljubljana Pride Festival 2025\, 12 queens and kings of the Balkans will face off in 15 fierce duels – but only one will claim the crown!  \nThis year\, the format is getting a glow-up – expect surprises\, twists and next-level strategies as contestants bring drama\, glamour and chaos to the summer garden of Gala Hala. Doors open at 20:30\, show starts at 21:00.        \nCOMPETING:Agatha Fakk Kunt\, Akira Ve\, Belladonna Kunt\, Benrime Shortall (CRO)\, Dorijan Mavrični\, Dr. Olja\, Glupa Pupa Kunt\, Miss Sin\, Pomaranča Devita\, Prof. Pederik Kunt\, Uranus Sparkles\, Xenia Fuxx (BIH \nALSO PERFORMING: Iza Kunt\, and of course\, the winner of the third season – Trula Višnja! \nHOST: Mentalika – who will\, at one point\, also do a little wiggle\, all in the name of buying time for the contestants\, who will\, under the rush of adrenaline and the hot summer air\, need every second. \nAt the stands\, you’ll be able to snatch up a variety of merch: from the queens and kings competing\, as well as from the rest of the Slovenian drag scene and the mega-colorful rainbow merch! And once we crown the Queen of Snatching\, we’ll be taken on a pop extravaganza by the fiery\, seductive Karmen Daš.  \nTekmovanje organizirajo članice Društva Štikla. Tekmovanje podpiraThe competition is organized by the members of the Štikla Association. The event is supported by the Pride Parade Association. \nDruštvo Parada ponosa.
URL:https://ljubljanapridefestival.org/en/dogodki/clash-of-the-queens/
LOCATION:Gala Hala\, Masarykova cesta 24\, Ljubljana
CATEGORIES:Drag lipsync competition
ATTACH;FMTTYPE=image/jpeg:https://ljubljanapridefestival.org/wp-content/uploads/2025/05/07.06-Clash-of-the-Queens.jpg
END:VEVENT
END:VCALENDAR