BEGIN:VCALENDAR
VERSION:2.0
PRODID:-//ljubljanapridefestival - ECPv6.15.20//NONSGML v1.0//EN
CALSCALE:GREGORIAN
METHOD:PUBLISH
X-WR-CALNAME:ljubljanapridefestival
X-ORIGINAL-URL:https://ljubljanapridefestival.org/en/
X-WR-CALDESC:Events for ljubljanapridefestival
REFRESH-INTERVAL;VALUE=DURATION:PT1H
X-Robots-Tag:noindex
X-PUBLISHED-TTL:PT1H
BEGIN:VTIMEZONE
TZID:Europe/Ljubljana
BEGIN:DAYLIGHT
TZOFFSETFROM:+0100
TZOFFSETTO:+0200
TZNAME:CEST
DTSTART:20240331T010000
END:DAYLIGHT
BEGIN:STANDARD
TZOFFSETFROM:+0200
TZOFFSETTO:+0100
TZNAME:CET
DTSTART:20241027T010000
END:STANDARD
BEGIN:DAYLIGHT
TZOFFSETFROM:+0100
TZOFFSETTO:+0200
TZNAME:CEST
DTSTART:20250330T010000
END:DAYLIGHT
BEGIN:STANDARD
TZOFFSETFROM:+0200
TZOFFSETTO:+0100
TZNAME:CET
DTSTART:20251026T010000
END:STANDARD
BEGIN:DAYLIGHT
TZOFFSETFROM:+0100
TZOFFSETTO:+0200
TZNAME:CEST
DTSTART:20260329T010000
END:DAYLIGHT
BEGIN:STANDARD
TZOFFSETFROM:+0200
TZOFFSETTO:+0100
TZNAME:CET
DTSTART:20261025T010000
END:STANDARD
END:VTIMEZONE
BEGIN:VEVENT
DTSTART;TZID=Europe/Ljubljana:20250607T150000
DTEND;TZID=Europe/Ljubljana:20250607T170000
DTSTAMP:20260421T104223
CREATED:20250512T072309Z
LAST-MODIFIED:20250611T140615Z
UID:2262-1749308400-1749315600@ljubljanapridefestival.org
SUMMARY:Maribor Pride
DESCRIPTION:The event will be held in Slovenian and English.Accessibility for people with mobility impairments: Yes \nThis June\, we’re marching once again through the streets of Maribor! \nJoin us for the 4th Maribor Pride and help us show up and speak out in support of the local LGBTIQ+ community. \nAlthough Maribor is becoming an increasingly open and inclusive city\, the reality for LGBTIQ+ people is still often faced with violence\, hate speech and erasure. Let us remember the attacks after the last parade\, the destroyed flags and graffiti – these events must not silence us\, but unite us!  \nThat’s why this year’s parade carries the slogan: 🗣️ DROWN OUT THE HATELet our voices rise on the streets of Maribor – loud\, proud and united for visibility\, safety and dignity for all. \n✨ We invite everyone from Ljubljana and beyond to join us on Saturday\, 7. June\, join us in Maribor!  \n Let’s be loud. Let’s be visible. Let’s be there – because solidarity knows no borders.
URL:https://ljubljanapridefestival.org/en/dogodki/4th-maribor-pride-parade/
LOCATION:Trg Svobode\, Maribor
CATEGORIES:Maribor Pride
ATTACH;FMTTYPE=image/jpeg:https://ljubljanapridefestival.org/wp-content/uploads/2025/05/07.06-Maribor-Pride-1.jpg
END:VEVENT
END:VCALENDAR