BEGIN:VCALENDAR
VERSION:2.0
PRODID:-//ljubljanapridefestival - ECPv6.15.20//NONSGML v1.0//EN
CALSCALE:GREGORIAN
METHOD:PUBLISH
X-WR-CALNAME:ljubljanapridefestival
X-ORIGINAL-URL:https://ljubljanapridefestival.org
X-WR-CALDESC:Dogodki za ljubljanapridefestival
REFRESH-INTERVAL;VALUE=DURATION:PT1H
X-Robots-Tag:noindex
X-PUBLISHED-TTL:PT1H
BEGIN:VTIMEZONE
TZID:Europe/Ljubljana
BEGIN:DAYLIGHT
TZOFFSETFROM:+0100
TZOFFSETTO:+0200
TZNAME:CEST
DTSTART:20240331T010000
END:DAYLIGHT
BEGIN:STANDARD
TZOFFSETFROM:+0200
TZOFFSETTO:+0100
TZNAME:CET
DTSTART:20241027T010000
END:STANDARD
BEGIN:DAYLIGHT
TZOFFSETFROM:+0100
TZOFFSETTO:+0200
TZNAME:CEST
DTSTART:20250330T010000
END:DAYLIGHT
BEGIN:STANDARD
TZOFFSETFROM:+0200
TZOFFSETTO:+0100
TZNAME:CET
DTSTART:20251026T010000
END:STANDARD
BEGIN:DAYLIGHT
TZOFFSETFROM:+0100
TZOFFSETTO:+0200
TZNAME:CEST
DTSTART:20260329T010000
END:DAYLIGHT
BEGIN:STANDARD
TZOFFSETFROM:+0200
TZOFFSETTO:+0100
TZNAME:CET
DTSTART:20261025T010000
END:STANDARD
END:VTIMEZONE
BEGIN:VEVENT
DTSTART;TZID=Europe/Ljubljana:20250613T210000
DTEND;TZID=Europe/Ljubljana:20250613T230000
DTSTAMP:20260420T130318
CREATED:20250527T102937Z
LAST-MODIFIED:20250527T153638Z
UID:2990-1749848400-1749855600@ljubljanapridefestival.org
SUMMARY:Predparadni žur v Pritličju
DESCRIPTION:🌈 Za vsak finale se je treba ogret–in kaj je boljši ogrevalni trening kot Predparadni žur v samem središču Ljubljane? \nV petek\, 13. junija 2025\, se vidimo v Pritličju\, kjer nas čaka nora predparadna noč: DJ program\, ples\, dobra družba in vsa mavrična energija\, ki jo potrebujemo za veliki finale–sobotno parado! \n🔥 Pridi po dozo ritma\, nasmehov in mavričnega druženja. Bleščice so zaželene\, dobra volja obvezna\, vstop pa prost! \nTa žur bo tvoj popoln “warm-up” pred Paradnim dnem 2025. Se vidimo v Pritličju! 💃🪩🌈
URL:https://ljubljanapridefestival.org/dogodki/predparadni-zur/
LOCATION:Kavarna Pritličje\, Mestni trg 2\, Ljubljana
CATEGORIES:zabava
ATTACH;FMTTYPE=image/png:https://ljubljanapridefestival.org/wp-content/uploads/2025/05/Cover-photo-20.png
END:VEVENT
END:VCALENDAR