BEGIN:VCALENDAR
VERSION:2.0
PRODID:-//ljubljanapridefestival - ECPv6.15.20//NONSGML v1.0//EN
CALSCALE:GREGORIAN
METHOD:PUBLISH
X-WR-CALNAME:ljubljanapridefestival
X-ORIGINAL-URL:https://ljubljanapridefestival.org
X-WR-CALDESC:Dogodki za ljubljanapridefestival
REFRESH-INTERVAL;VALUE=DURATION:PT1H
X-Robots-Tag:noindex
X-PUBLISHED-TTL:PT1H
BEGIN:VTIMEZONE
TZID:UTC
BEGIN:STANDARD
TZOFFSETFROM:+0000
TZOFFSETTO:+0000
TZNAME:UTC
DTSTART:20230101T000000
END:STANDARD
END:VTIMEZONE
BEGIN:VEVENT
DTSTART;TZID=UTC:20240610T170000
DTEND;TZID=UTC:20240610T200000
DTSTAMP:20260421T104824
CREATED:20240507T065739Z
LAST-MODIFIED:20240522T121246Z
UID:614-1718038800-1718049600@ljubljanapridefestival.org
SUMMARY:Območje čudovitosti: kolektivna skrb za aktivistke_e
DESCRIPTION:10. junij\, 17:00–20:00\n			\n				\n				\n				\n				\n				Vodnikova domačija Center (Stritarjeva ulica 7\, Ljubljana)\n			\n				\n				\n				\n				\n				Območje čudovitosti: kolektivna skrb za aktivistke_e\n			\n				\n				\n				\n				\n				Delavnica \n			\n			\n				\n				\n				\n				\n			\n				\n				\n				\n				\n				\n				\n				\n				\n				\n				\n				Zaradi omejenega števila mest so obvezne prijave. \n			\n				Prijavi se\n			\n			\n				\n				\n				\n				\n			\n				\n				\n				\n				\n				\n				\n				\n				\n				\n				\n				Dogodek bo potekal v angleščini. \n			\n				\n				\n				\n				\n				Dostopnost za osebe z gibalnimi oviranostmi: Ne \n			\n				\n				\n				\n				\n				V sodelovanju z Julio Scharinger in trans:verse. \n			\n				\n				\n				\n				\n				Na delavnici bomo predstavile_i metodologijo »Območje čudovitosti«\, ki sta jo za aktivistke_e za socialno pravičnost razvili Vikki Reynolds in Tara Taylor. Služi kot pristop\, ki spodbuja povezovanje\, osredotoča se na ciljne skupine\, ki jim je naše delo namenjeno\, in usklajuje našo kolektivno etiko s skupnostno skrbjo\, ne pa s kapitalističnimi predstavami o skrbi zgolj zase. Skozi konceptualne pristope\, diskusijo in vaje bomo raziskovale_i to metodologijo kot sredstvo za boj proti izgorelosti in odtujenosti oziroma nepovezanosti\, fokus namreč premikamo od individualnega k sistemskim pomanjkljivostim in zatiranju. Končni cilj delavnice je gojiti Območja čudovitosti in ekipe solidarnosti\, ki nam kot aktivistkam_om omogočajo\, da ohranimo smiselno povezanost in vsakič znova dajemo prednost našim skupnim vrednotam in osebam\, s katerimi v aktivizmu sodelujemo.
URL:https://ljubljanapridefestival.org/dogodki/obmocje-cudovitosti-kolektivna-skrb-za-aktivistke_e/
LOCATION:Vodnikova domačija Center\, Stritarjeva 7\, Ljubljana\, 1000\, Slovenija
ATTACH;FMTTYPE=image/jpeg:https://ljubljanapridefestival.org/wp-content/uploads/2024/05/julija.jpg
END:VEVENT
END:VCALENDAR