BEGIN:VCALENDAR
VERSION:2.0
PRODID:-//ljubljanapridefestival - ECPv6.15.20//NONSGML v1.0//EN
CALSCALE:GREGORIAN
METHOD:PUBLISH
X-WR-CALNAME:ljubljanapridefestival
X-ORIGINAL-URL:https://ljubljanapridefestival.org
X-WR-CALDESC:Dogodki za ljubljanapridefestival
REFRESH-INTERVAL;VALUE=DURATION:PT1H
X-Robots-Tag:noindex
X-PUBLISHED-TTL:PT1H
BEGIN:VTIMEZONE
TZID:UTC
BEGIN:STANDARD
TZOFFSETFROM:+0000
TZOFFSETTO:+0000
TZNAME:UTC
DTSTART:20230101T000000
END:STANDARD
END:VTIMEZONE
BEGIN:VEVENT
DTSTART;TZID=UTC:20240613T200000
DTEND;TZID=UTC:20240613T213000
DTSTAMP:20260420T113614
CREATED:20240507T081942Z
LAST-MODIFIED:20240522T125449Z
UID:684-1718308800-1718314200@ljubljanapridefestival.org
SUMMARY:Major in Helena
DESCRIPTION:13. junij\, 20:00\n			\n				\n				\n				\n				\n				Slovensko mladinsko gledališče (Vilharjeva 11\, Ljubljana)\n			\n			\n				\n				\n				\n				\n			\n				\n				\n				\n				\n				\n				\n				\n				\n				\n				\n				Major in Helena\n			\n				\n				\n				\n				\n				Gledališka predstava \n			\n				\n				\n				\n				\n				Dogodek bo potekal v srbščini s slovenskimi in angleškimi podnapisi. \n			\n				\n				\n				\n				\n				Dostopnost za osebe z gibalnimi oviranostmi: Ne \n			\n				\n				\n				\n				\n				V koprodukciji s Slovenskim mladinskim gledališčem in v sodelovanju z Gledališčem Promena ter produkcijsko hišo Oblak. \n			\n				\n				\n				\n				\n				Predstava »Major in Helena«\, ustvarjena po motivih istoimenske knjige Maje Bekčić Petrović v dramatizaciji Divne Stojanov\, razkriva ganljivo resnično zgodbo Helene Vuković\, nekdanje_ga majorja srbske vojske\, ki je hkrati tudi trans ženska. Predstava v režiji Aleksa Jovčića ponuja vpogled v življenje Helene ter njeno osebno potovanje skozi krivice\, bolečine in radosti.Zgodba se osredotoča na konflikt med patriarhalnim in konservativnim okoljem\, ki ga predstavlja vojska\, ter liberalnim okoljem LGBTIQ+ skupnosti. Skozi to nasprotje se razkriva kompleksnost Heleninega življenja\, pa tudi lepota in izzivi trans/kvir življenja v Srbiji. Pomembne teme\, kot so drugačnost\, pogum in iskrenost\, so osrednji del predstave\, ki poudarja nujnost avtentičnosti in iskrenosti v družbi\, ki pogosto zavrača tiste\, ki se ne najdejo v ustaljenih normah. »Major in Helena« nas tako spodbuja k razmisleku\, koliko poguma potrebujemo\, da smo v konservativni družbi to\, kar smo. Hkrati pa ponuja tudi sporočilo tolažbe in podpore tistim\, ki se počutijo zaradi svoje drugačnosti osamljene_i ali zavrnjene_i.
URL:https://ljubljanapridefestival.org/dogodki/major-in-helena/
LOCATION:Slovensko mladinsko gledališče\, Vilharjeva 11\, Ljubljana\, 1000\, Slovenia
ATTACH;FMTTYPE=image/jpeg:https://ljubljanapridefestival.org/wp-content/uploads/2024/05/majorhelena.jpg
END:VEVENT
END:VCALENDAR