BEGIN:VCALENDAR
VERSION:2.0
PRODID:-//ljubljanapridefestival - ECPv6.15.20//NONSGML v1.0//EN
CALSCALE:GREGORIAN
METHOD:PUBLISH
X-WR-CALNAME:ljubljanapridefestival
X-ORIGINAL-URL:https://ljubljanapridefestival.org
X-WR-CALDESC:Dogodki za ljubljanapridefestival
REFRESH-INTERVAL;VALUE=DURATION:PT1H
X-Robots-Tag:noindex
X-PUBLISHED-TTL:PT1H
BEGIN:VTIMEZONE
TZID:UTC
BEGIN:STANDARD
TZOFFSETFROM:+0000
TZOFFSETTO:+0000
TZNAME:UTC
DTSTART:20230101T000000
END:STANDARD
END:VTIMEZONE
BEGIN:VEVENT
DTSTART;TZID=UTC:20240613T214500
DTEND;TZID=UTC:20240613T222000
DTSTAMP:20260420T113740
CREATED:20240507T082632Z
LAST-MODIFIED:20240522T125538Z
UID:703-1718315100-1718317200@ljubljanapridefestival.org
SUMMARY:Major in dragice
DESCRIPTION:13. junij\, 21:45\n			\n				\n				\n				\n				\n				Publika bar klub (Vilharjeva 11\, Ljubljana)\n			\n			\n				\n				\n				\n				\n			\n				\n				\n				\n				\n				\n				\n				\n				\n				\n				\n				Major in dragice\n			\n				\n				\n				\n				\n				Drag show \n			\n				\n				\n				\n				\n				Dogodek bo potekal v slovenščini in angleščini. \n			\n				\n				\n				\n				\n				Dostopnost za osebe z gibalnimi oviranostmi: Ne \n			\n				\n				\n				\n				\n				Dorijan Mavrični\, Glupa Pupa Kunt in Saška Depresso so lokalne_i drag performerke_ji\, ki s svojim delovanjem aktivno postavljajo trans identitete v zgodbe\, prenesene skozi drag. S svojim talentom in neustrašnostjo bodo poskrbele_i za nepozaben zaključek večera.
URL:https://ljubljanapridefestival.org/dogodki/major-in-dragice/
LOCATION:Publika bar klub\, Vilharjeva 11\, Ljubljana\, 1000\, Slovenija
ATTACH;FMTTYPE=image/jpeg:https://ljubljanapridefestival.org/wp-content/uploads/2024/05/masaddragice.jpg
ORGANIZER;CN="Ljubljana Pride":MAILTO:info@ljubljanapride.org
END:VEVENT
END:VCALENDAR