BEGIN:VCALENDAR
VERSION:2.0
PRODID:-//ljubljanapridefestival - ECPv6.15.20//NONSGML v1.0//EN
CALSCALE:GREGORIAN
METHOD:PUBLISH
X-WR-CALNAME:ljubljanapridefestival
X-ORIGINAL-URL:https://ljubljanapridefestival.org
X-WR-CALDESC:Dogodki za ljubljanapridefestival
REFRESH-INTERVAL;VALUE=DURATION:PT1H
X-Robots-Tag:noindex
X-PUBLISHED-TTL:PT1H
BEGIN:VTIMEZONE
TZID:UTC
BEGIN:STANDARD
TZOFFSETFROM:+0000
TZOFFSETTO:+0000
TZNAME:UTC
DTSTART:20230101T000000
END:STANDARD
END:VTIMEZONE
BEGIN:VEVENT
DTSTART;TZID=UTC:20240611T170000
DTEND;TZID=UTC:20240611T190000
DTSTAMP:20260421T104825
CREATED:20240507T084636Z
LAST-MODIFIED:20240522T121147Z
UID:749-1718125200-1718132400@ljubljanapridefestival.org
SUMMARY:LGBT tura po Ljubljani
DESCRIPTION:11. junij\, 17:00–19:00\n			\n				\n				\n				\n				\n				start pred Mestno hišo Ljubljana (Mestni trg 1\, Ljubljana)\n			\n			\n				\n				\n				\n				\n			\n				\n				\n				\n				\n				\n				\n				\n				\n				\n				\n				LGBT tura po Ljubljani\n			\n				\n				\n				\n				\n				Vodena tura \n			\n				\n				\n				\n				\n				Zaradi omejenega števila mest so obvezne prijave. \n			\n				Prijavi se\n			\n				\n				\n				\n				\n				Dogodek bo potekal v angleščini. \n			\n				\n				\n				\n				\n				Dostopnost za osebe z gibalnimi oviranostmi: vključuje 2-urni sprehod po mestu. \n			\n				\n				\n				\n				\n				V Društvu Parada ponosa že od leta 2015 izvajamo vodene LGBT ture za gostje_e Festivala Parada ponosa\, saj želimo obiskovalce_ke izobraževati o zgodovini in aktualnem stanju LGBTIQ+ aktivizma v Ljubljani in Sloveniji. V sodelovanju z LGBTIQ+ organizacijami\, aktivistkami_i in posameznicami_ki\, ki so pomembno prispevale_i k prelomnim dogodkom v boju za LGBTIQ+ pravice v preteklih 20 letih\, letos edinstven ogled Ljubljane skozi mavrična očala organiziramo tudi za širše občinstvo. Na raziskovanje vas bodo popeljale_i naše_i mlade_i LGBTIQ+ vodičke_i. \nZaradi omejenega števila mest so obvezne prijave. Povezavo do prijavnice lahko najdete na spletni strani festivala in na socialnih omrežjih Društva Parada ponosa. \nLGBT tura po Ljubljani v angleškem jeziku bo ponovno potekala v petek\, 14. junija\, ob 18. uri.
URL:https://ljubljanapridefestival.org/dogodki/lgbt-tura-po-ljubljani-3/
LOCATION:Mestna hiša Ljubljana\, Mestni trg 1\, Ljubljana\, 1000
ATTACH;FMTTYPE=image/jpeg:https://ljubljanapridefestival.org/wp-content/uploads/2024/04/tura.jpg
ORGANIZER;CN="Ljubljana Pride":MAILTO:info@ljubljanapride.org
END:VEVENT
END:VCALENDAR