BEGIN:VCALENDAR
VERSION:2.0
PRODID:-//ljubljanapridefestival - ECPv6.15.20//NONSGML v1.0//EN
CALSCALE:GREGORIAN
METHOD:PUBLISH
X-WR-CALNAME:ljubljanapridefestival
X-ORIGINAL-URL:https://ljubljanapridefestival.org
X-WR-CALDESC:Dogodki za ljubljanapridefestival
REFRESH-INTERVAL;VALUE=DURATION:PT1H
X-Robots-Tag:noindex
X-PUBLISHED-TTL:PT1H
BEGIN:VTIMEZONE
TZID:Europe/Ljubljana
BEGIN:DAYLIGHT
TZOFFSETFROM:+0100
TZOFFSETTO:+0200
TZNAME:CEST
DTSTART:20240331T010000
END:DAYLIGHT
BEGIN:STANDARD
TZOFFSETFROM:+0200
TZOFFSETTO:+0100
TZNAME:CET
DTSTART:20241027T010000
END:STANDARD
BEGIN:DAYLIGHT
TZOFFSETFROM:+0100
TZOFFSETTO:+0200
TZNAME:CEST
DTSTART:20250330T010000
END:DAYLIGHT
BEGIN:STANDARD
TZOFFSETFROM:+0200
TZOFFSETTO:+0100
TZNAME:CET
DTSTART:20251026T010000
END:STANDARD
BEGIN:DAYLIGHT
TZOFFSETFROM:+0100
TZOFFSETTO:+0200
TZNAME:CEST
DTSTART:20260329T010000
END:DAYLIGHT
BEGIN:STANDARD
TZOFFSETFROM:+0200
TZOFFSETTO:+0100
TZNAME:CET
DTSTART:20261025T010000
END:STANDARD
END:VTIMEZONE
BEGIN:VEVENT
DTSTART;TZID=Europe/Ljubljana:20250611T200000
DTEND;TZID=Europe/Ljubljana:20250611T223000
DTSTAMP:20260421T103943
CREATED:20250512T123932Z
LAST-MODIFIED:20250611T140931Z
UID:2152-1749672000-1749681000@ljubljanapridefestival.org
SUMMARY:Koncert KIKI
DESCRIPTION:Dogodek bo potekal v slovenščini.Dostopnost za osebe z gibalnimi oviranostmi: Da \nV sklopu Festivala Parada ponosa 2025 in koprodukciji Pritličje vas vabimo na nepozaben glasbeni večer s Kiki\, kantavtorico mlajše generacije slovenske alternativne glasbene scene. Njene pesmi prepletajo intimo\, družbeno kritičnost in igrivo nežnost\, ki poslušalce povabijo v svet iskrenih zgodb in močnih čustev. \nS svojo edinstveno energijo in avtentičnostjo bo Kiki poskrbela za večer poln glasbe\, srčnosti in ponosa. Priličje bo 11. junija zažarelo v barvah ljubezni\, svobode in skupnosti. \n📍 Vstop je prost – pridi\, zapleši\, zapoj in praznuj raznolikost z nami! 💃🌈🎶
URL:https://ljubljanapridefestival.org/dogodki/kiki/
LOCATION:Kavarna Pritličje\, Mestni trg 2\, Ljubljana
CATEGORIES:koncert
ATTACH;FMTTYPE=image/jpeg:https://ljubljanapridefestival.org/wp-content/uploads/2025/05/11.06-Pritlicje-concert.jpg
END:VEVENT
END:VCALENDAR