BEGIN:VCALENDAR
VERSION:2.0
PRODID:-//ljubljanapridefestival - ECPv6.15.20//NONSGML v1.0//EN
CALSCALE:GREGORIAN
METHOD:PUBLISH
X-WR-CALNAME:ljubljanapridefestival
X-ORIGINAL-URL:https://ljubljanapridefestival.org
X-WR-CALDESC:Dogodki za ljubljanapridefestival
REFRESH-INTERVAL;VALUE=DURATION:PT1H
X-Robots-Tag:noindex
X-PUBLISHED-TTL:PT1H
BEGIN:VTIMEZONE
TZID:Europe/Ljubljana
BEGIN:DAYLIGHT
TZOFFSETFROM:+0100
TZOFFSETTO:+0200
TZNAME:CEST
DTSTART:20240331T010000
END:DAYLIGHT
BEGIN:STANDARD
TZOFFSETFROM:+0200
TZOFFSETTO:+0100
TZNAME:CET
DTSTART:20241027T010000
END:STANDARD
BEGIN:DAYLIGHT
TZOFFSETFROM:+0100
TZOFFSETTO:+0200
TZNAME:CEST
DTSTART:20250330T010000
END:DAYLIGHT
BEGIN:STANDARD
TZOFFSETFROM:+0200
TZOFFSETTO:+0100
TZNAME:CET
DTSTART:20251026T010000
END:STANDARD
BEGIN:DAYLIGHT
TZOFFSETFROM:+0100
TZOFFSETTO:+0200
TZNAME:CEST
DTSTART:20260329T010000
END:DAYLIGHT
BEGIN:STANDARD
TZOFFSETFROM:+0200
TZOFFSETTO:+0100
TZNAME:CET
DTSTART:20261025T010000
END:STANDARD
END:VTIMEZONE
BEGIN:VEVENT
DTSTART;TZID=Europe/Ljubljana:20250612T160000
DTEND;TZID=Europe/Ljubljana:20250612T190000
DTSTAMP:20260421T104537
CREATED:20250512T120549Z
LAST-MODIFIED:20250605T184932Z
UID:2129-1749744000-1749754800@ljubljanapridefestival.org
SUMMARY:DekontRaminirajmo Ljubljano
DESCRIPTION:Dogodek bo potekal v angleščini.\nDostopnost za osebe z gibalnimi oviranostmi: Da \nTe motijo sovražni grafiti na ulicah Ljubljane? Sediš kdaj na WC-ju svojega najljubšega kafiča in vmes iz ploščic praskaš transfobne napise? Se pošutiš kot\, da so javni prostori\, ki te obdajajo sovražni?  \nZate imamo odlično rešitev! Pridruži se delavnici DekontRaminacije sovražnega govora in dobil_a boš priložnost\, da raziščeš različne načine kako si lahko nazaj prilastimo javne prostore\, parke\, pločnike\, WC-je in veliko več.\n \nDelavnica se bo pričela ob 16h v Studiu Hana Karim na Vilahrjevi\, kjer se bomo na kratko spoznali s konceptom DekontRaminacije in z mobilno aplikacijo\, ki jo bomo uporabljale_i. Nato se bomo v manjših skupinah podale_i na teren\, kjer bomo raziskovale_i grafite v javnem prostoru in jih dekontraminirale_i. Delavnica bo združila aktiviste iz cele evrope in bo odlična priložnost za spoznavanje novih strategij sprevračanja svoražnih in diskriminatornih napisov. \nPriproročeno je\, da si pred udeležbo naložite mobilno aplikacijo\, ki je dostopna v slovenskem\, angleškem in nemškem jeziku. \nNe pozabite na vodo in zaščito proti soncu!\n 🎟️ (za sodelovanje se prijavi tu!) ) \n 
URL:https://ljubljanapridefestival.org/dogodki/dekontraminirajmo-ljubljano/
LOCATION:Hana Karim Studio\,  Vilharjeva cesta 3\, Ljubljana
CATEGORIES:Delavnica transformacije sovražnega govora
END:VEVENT
END:VCALENDAR